BEGIN:VCALENDAR
VERSION:2.0
PRODID:-//J. Vitos Supper Club and Lounge - ECPv6.15.20//NONSGML v1.0//EN
CALSCALE:GREGORIAN
METHOD:PUBLISH
X-WR-CALNAME:J. Vitos Supper Club and Lounge
X-ORIGINAL-URL:https://jvitos.com
X-WR-CALDESC:Events for J. Vitos Supper Club and Lounge
REFRESH-INTERVAL;VALUE=DURATION:PT1H
X-Robots-Tag:noindex
X-PUBLISHED-TTL:PT1H
BEGIN:VTIMEZONE
TZID:America/New_York
BEGIN:DAYLIGHT
TZOFFSETFROM:-0500
TZOFFSETTO:-0400
TZNAME:EDT
DTSTART:20250309T070000
END:DAYLIGHT
BEGIN:STANDARD
TZOFFSETFROM:-0400
TZOFFSETTO:-0500
TZNAME:EST
DTSTART:20251102T060000
END:STANDARD
BEGIN:DAYLIGHT
TZOFFSETFROM:-0500
TZOFFSETTO:-0400
TZNAME:EDT
DTSTART:20260308T070000
END:DAYLIGHT
BEGIN:STANDARD
TZOFFSETFROM:-0400
TZOFFSETTO:-0500
TZNAME:EST
DTSTART:20261101T060000
END:STANDARD
BEGIN:DAYLIGHT
TZOFFSETFROM:-0500
TZOFFSETTO:-0400
TZNAME:EDT
DTSTART:20270314T070000
END:DAYLIGHT
BEGIN:STANDARD
TZOFFSETFROM:-0400
TZOFFSETTO:-0500
TZNAME:EST
DTSTART:20271107T060000
END:STANDARD
END:VTIMEZONE
BEGIN:VEVENT
DTSTART;TZID=America/New_York:20260425T190000
DTEND;TZID=America/New_York:20260425T220000
DTSTAMP:20260423T050146
CREATED:20260410T192042Z
LAST-MODIFIED:20260410T192059Z
UID:1993-1777143600-1777154400@jvitos.com
SUMMARY:Vic Guittard
DESCRIPTION:Settle into Saturday night with Vic Guittard\, whose smooth blend of saxophone\, guitar\, and soulful vocals delivers a chilled-out mix of Motown\, soul\, and classic rock—ideal for an elegant lounge or supper club vibe.
URL:https://jvitos.com/event/vic-guittard-33/
LOCATION:J. Vito’s Supper Club and Lounge\, 20041 S. Tamiami Trail #19\, Estero\, Lee County\, FL\, 33928\, United States
CATEGORIES:Classic Rock,Motown,Soul
ATTACH;FMTTYPE=image/jpeg:https://jvitos.com/wp-content/uploads/2025/08/Vic-Guittard-2.jpg
END:VEVENT
END:VCALENDAR